BEGIN:VCALENDAR
VERSION:2.0
PRODID:-//hacksw/handcal//NONSGML v1.0//EN
BEGIN:VEVENT
DTSTAMP:20240413T120000Z
DTSTART:20240413T120000Z
DTEND:20240413T140000Z
SUMMARY:OV Bergenhusen Skatspiel
END:VEVENT
END:VCALENDAR
