BEGIN:VCALENDAR
VERSION:2.0
PRODID:-//hacksw/handcal//NONSGML v1.0//EN
BEGIN:VEVENT
DTSTAMP:20230507T090000Z
DTSTART:20230507T090000Z
DTEND:20230507T120000Z
SUMMARY:OV Silberstedt "Politik und Schleswig-Holsteinische Küche"
END:VEVENT
END:VCALENDAR
