BEGIN:VCALENDAR
VERSION:2.0
PRODID:-//hacksw/handcal//NONSGML v1.0//EN
BEGIN:VEVENT
DTSTAMP:20231110T180000Z
DTSTART:20231110T180000Z
DTEND:20231110T193000Z
SUMMARY:Ortsverband Harrislee, Jahreshauptversammlung
END:VEVENT
END:VCALENDAR
