BEGIN:VCALENDAR
VERSION:2.0
PRODID:-//hacksw/handcal//NONSGML v1.0//EN
BEGIN:VEVENT
DTSTAMP:20231208T160000Z
DTSTART:20231208T160000Z
DTEND:20231208T160000Z
SUMMARY:OV Borgwedel Adventszauber
END:VEVENT
END:VCALENDAR
