BEGIN:VCALENDAR
VERSION:2.0
PRODID:-//hacksw/handcal//NONSGML v1.0//EN
BEGIN:VEVENT
DTSTAMP:20240320T183000Z
DTSTART:20240320T183000Z
DTEND:20240320T203000Z
SUMMARY:OV Oeversee Mitgliederversammlung
END:VEVENT
END:VCALENDAR
