BEGIN:VCALENDAR
VERSION:2.0
PRODID:-//hacksw/handcal//NONSGML v1.0//EN
BEGIN:VEVENT
DTSTAMP:20250106T140000Z
DTSTART:20250106T140000Z
DTEND:20250106T160000Z
SUMMARY:SU Schleswig und Umland "Wie geht es weiter nach der Vertauensfrage?"
END:VEVENT
END:VCALENDAR
