BEGIN:VCALENDAR
VERSION:2.0
PRODID:-//hacksw/handcal//NONSGML v1.0//EN
BEGIN:VEVENT
DTSTAMP:20250913T100000Z
DTSTART:20250913T100000Z
DTEND:20250913T143000Z
SUMMARY:OV Steinbergkirche/Quern - "Sommerfahrradtour für Jedermann"
END:VEVENT
END:VCALENDAR
