BEGIN:VCALENDAR
VERSION:2.0
PRODID:-//hacksw/handcal//NONSGML v1.0//EN
BEGIN:VEVENT
DTSTAMP:20251104T173000Z
DTSTART:20251104T173000Z
DTEND:20251104T173000Z
SUMMARY:AV Arensharde JHV 
END:VEVENT
END:VCALENDAR
