BEGIN:VCALENDAR
VERSION:2.0
PRODID:-//hacksw/handcal//NONSGML v1.0//EN
BEGIN:VEVENT
DTSTAMP:20260226T180000Z
DTSTART:20260226T180000Z
DTEND:20260226T200000Z
SUMMARY:Ortsverband Kropp "Einladung Hauptversammlung"
END:VEVENT
END:VCALENDAR
