BEGIN:VCALENDAR
VERSION:2.0
PRODID:-//hacksw/handcal//NONSGML v1.0//EN
BEGIN:VEVENT
DTSTAMP:20150507T170000Z
DTSTART:20150507T170000Z
DTEND:20150507T190000Z
SUMMARY:OV Harrislee, Lesung mit Petra Nicolaisen, MdL
END:VEVENT
END:VCALENDAR
