BEGIN:VCALENDAR
VERSION:2.0
PRODID:-//hacksw/handcal//NONSGML v1.0//EN
BEGIN:VEVENT
DTSTAMP:20150507T111500Z
DTSTART:20150507T111500Z
DTEND:20150507T160000Z
SUMMARY:Senioren Union Wiesharde, Busfahrt zur Rapsblüte in Angeln
END:VEVENT
END:VCALENDAR
