BEGIN:VCALENDAR
VERSION:2.0
PRODID:-//hacksw/handcal//NONSGML v1.0//EN
BEGIN:VEVENT
DTSTAMP:20150425T140000Z
DTSTART:20150425T140000Z
DTEND:20150425T160000Z
SUMMARY:JU-Kreisverbandstag mit Vorstandswahlen
END:VEVENT
END:VCALENDAR
