BEGIN:VCALENDAR
VERSION:2.0
PRODID:-//hacksw/handcal//NONSGML v1.0//EN
BEGIN:VEVENT
DTSTAMP:20161208T183000Z
DTSTART:20161208T183000Z
DTEND:20161208T200000Z
SUMMARY:Stadtverband Schleswig, Jahreshauptversammlung
END:VEVENT
END:VCALENDAR
