BEGIN:VCALENDAR
VERSION:2.0
PRODID:-//hacksw/handcal//NONSGML v1.0//EN
BEGIN:VEVENT
DTSTAMP:20161128T133000Z
DTSTART:20161128T133000Z
DTEND:20161128T133000Z
SUMMARY:Tannenbaumabfuhr in Fahrdorf
END:VEVENT
END:VCALENDAR
