BEGIN:VCALENDAR
VERSION:2.0
PRODID:-//hacksw/handcal//NONSGML v1.0//EN
BEGIN:VEVENT
DTSTAMP:20170111T183000Z
DTSTART:20170111T183000Z
DTEND:20170111T200000Z
SUMMARY:OV Jübek, Jahreshauptversammlung mit Sabine Sütterlin-Waack
END:VEVENT
END:VCALENDAR
