BEGIN:VCALENDAR
VERSION:2.0
PRODID:-//hacksw/handcal//NONSGML v1.0//EN
BEGIN:VEVENT
DTSTAMP:20170712T173000Z
DTSTART:20170712T173000Z
DTEND:20170712T190000Z
SUMMARY:OV Munkbrarup-Ringsberg, Stammtisch
END:VEVENT
END:VCALENDAR
