BEGIN:VCALENDAR
VERSION:2.0
PRODID:-//hacksw/handcal//NONSGML v1.0//EN
BEGIN:VEVENT
DTSTAMP:20171207T173000Z
DTSTART:20171207T173000Z
DTEND:20171207T190000Z
SUMMARY:Senioren-Union Nordangeln, Entenbraten-Essen 
END:VEVENT
END:VCALENDAR
