BEGIN:VCALENDAR
VERSION:2.0
PRODID:-//hacksw/handcal//NONSGML v1.0//EN
BEGIN:VEVENT
DTSTAMP:20180205T180000Z
DTSTART:20180205T180000Z
DTEND:20180205T200000Z
SUMMARY:OV Eggebek, Vorstandswahlen und Kandidatenaufstellung für die Gemeindewahl
END:VEVENT
END:VCALENDAR
