BEGIN:VCALENDAR
VERSION:2.0
PRODID:-//hacksw/handcal//NONSGML v1.0//EN
BEGIN:VEVENT
DTSTAMP:20180301T174500Z
DTSTART:20180301T174500Z
DTEND:20180301T220000Z
SUMMARY:BV Kappeln, Theaterfahrt nach Flensburg
END:VEVENT
END:VCALENDAR
