BEGIN:VCALENDAR
VERSION:2.0
PRODID:-//hacksw/handcal//NONSGML v1.0//EN
BEGIN:VEVENT
DTSTAMP:20180831T160000Z
DTSTART:20180831T160000Z
DTEND:20180831T190000Z
SUMMARY:OV Langballig, Grillen
END:VEVENT
END:VCALENDAR
