BEGIN:VCALENDAR
VERSION:2.0
PRODID:-//hacksw/handcal//NONSGML v1.0//EN
BEGIN:VEVENT
DTSTAMP:20190302T080000Z
DTSTART:20190302T080000Z
DTEND:20190302T160000Z
SUMMARY:Seminar Kommunalführerschein III - Das Bauplanungsrecht
END:VEVENT
END:VCALENDAR
