BEGIN:VCALENDAR
VERSION:2.0
PRODID:-//hacksw/handcal//NONSGML v1.0//EN
BEGIN:VEVENT
DTSTAMP:20190807T053000Z
DTSTART:20190807T053000Z
DTEND:20190807T160000Z
SUMMARY:OV Kropp, Ausflugsfahrt nach Lübeck
END:VEVENT
END:VCALENDAR
