BEGIN:VCALENDAR
VERSION:2.0
PRODID:-//hacksw/handcal//NONSGML v1.0//EN
BEGIN:VEVENT
DTSTAMP:20191024T123000Z
DTSTART:20191024T123000Z
DTEND:20191024T150000Z
SUMMARY:KV Senioren-Union, JHV mit Wahlen, Bericht von Walter Behrens, 1. Kreisrat
END:VEVENT
END:VCALENDAR
