BEGIN:VCALENDAR
VERSION:2.0
PRODID:-//hacksw/handcal//NONSGML v1.0//EN
BEGIN:VEVENT
DTSTAMP:20200827T160000Z
DTSTART:20200827T160000Z
DTEND:20200827T180000Z
SUMMARY:OV Schuby-Lürschau, Grillabend
END:VEVENT
END:VCALENDAR
