BEGIN:VCALENDAR
VERSION:2.0
PRODID:-//hacksw/handcal//NONSGML v1.0//EN
BEGIN:VEVENT
DTSTAMP:20210915T123000Z
DTSTART:20210915T123000Z
DTEND:20210915T150000Z
SUMMARY:Senioren-Union Kreisverband, Jahreshauptversammlung mit Wahlen
END:VEVENT
END:VCALENDAR
