BEGIN:VCALENDAR
VERSION:2.0
PRODID:-//hacksw/handcal//NONSGML v1.0//EN
BEGIN:VEVENT
DTSTAMP:20211130T180000Z
DTSTART:20211130T180000Z
DTEND:20211130T193000Z
SUMMARY:OV Munkbrarup-Ringsberg Stammtisch
END:VEVENT
END:VCALENDAR
