BEGIN:VCALENDAR
VERSION:2.0
PRODID:-//hacksw/handcal//NONSGML v1.0//EN
BEGIN:VEVENT
DTSTAMP:20220418T073000Z
DTSTART:20220418T073000Z
DTEND:20220418T090000Z
SUMMARY:OV Schuby-Lürschau Osterfrühstück
END:VEVENT
END:VCALENDAR
